BEGIN:VCALENDAR
VERSION:2.0
PRODID:-//wp-events-plugin.com//7.2.3.1//EN
TZID:Europe/Paris
X-WR-TIMEZONE:Europe/Paris
BEGIN:VEVENT
UID:434@artsenscenes.fr
DTSTART;TZID=Europe/Paris:20181117T203000
DTEND;TZID=Europe/Paris:20181117T203000
DTSTAMP:20181104T173113Z
URL:https://artsenscenes.fr/aeswp/events/le-diable-rouge-dantoine-rault-2/
SUMMARY:LE DIABLE ROUGE D'ANTOINE RAULT
DESCRIPTION:Mise en scène Jacky Kerneur \nEn 1658\, Mazarin\, Premier mini
 stre de la régente Anne d’Autriche\, règne en maître absolu sur le ro
 yaume de France. Se sachant atteint par une maladie incurable\, il achève
  l’éducation de son filleul\, le jeune Louis XIV\, en accomplissant un 
 dernier coup d’éclat politique. Au moyen de ruses diplomatiques dont il
  a le secret\, le cardinal négocie un traité de paix entre la France et 
 l’Espagne\, en échange du mariage de Louis avec l’infante MarieThér
 èse. Mais le fin stratège va devoir écarter sa nièce Marie Mancini\, q
 ui a su gagner le cœur du roi et risque de faire échouer ses plans… \n
 Avec : David Chiche : Mazarin\, Gisèle Kerneur : Anne d’Autriche \nPier
 re Devann : Colbert\, Hervé Brocherieu : Louis XIV\, Sandie Carlier : Mar
 ie Mancini\, Alain Vervault : Bernouin\n&nbsp\;\nSamedi 17 Novembre 20h30\
 n
ATTACH;FMTTYPE=image/jpeg:https://artsenscenes.fr/aeswp/wp-content/uploads
 /2018/11/photo-diable-rouge-e1541352613387.jpg
LOCATION:Le Triskell - Espace culturel\, 3 rue des moulins\, Ploeren\, 5688
 0\, France
GEO:47.6562394;-2.870145099999945
X-APPLE-STRUCTURED-LOCATION;VALUE=URI;X-ADDRESS=3 rue des moulins\, Ploeren
 \, 56880\, France;X-APPLE-RADIUS=100;X-TITLE=Le Triskell - Espace culturel
 :geo:47.6562394,-2.870145099999945
END:VEVENT
BEGIN:VTIMEZONE
TZID:Europe/Paris
X-LIC-LOCATION:Europe/Paris
BEGIN:STANDARD
DTSTART:20181028T020000
TZOFFSETFROM:+0200
TZOFFSETTO:+0100
TZNAME:CET
END:STANDARD
END:VTIMEZONE
END:VCALENDAR