BEGIN:VCALENDAR
VERSION:2.0
PRODID:-//wp-events-plugin.com//7.2.3.1//EN
TZID:Europe/Paris
X-WR-TIMEZONE:Europe/Paris
BEGIN:VEVENT
UID:500@artsenscenes.fr
DTSTART;TZID=Europe/Paris:20221021T194500
DTEND;TZID=Europe/Paris:20221021T194500
DTSTAMP:20220919T153335Z
URL:https://artsenscenes.fr/aeswp/events/decibel-part-en-quenouille-de-pat
 ricia-chillon/
SUMMARY:DECIBEL part en Quenouille de Patricia Chillon
DESCRIPTION:Réservations : contact@artsenscenes.fr\n\nTarif groupé avec l
 e Vent des peupliers à 21h 15 : 10 euros
ATTACH;FMTTYPE=image/jpeg:https://artsenscenes.fr/aeswp/wp-content/uploads
 /2021/10/GLD0967.jpg
CATEGORIES:Clowns
LOCATION:La maison du port\, 2 places des huniers \, Arzon\, 56640\, Bretag
 ne\, France
GEO:47.544868;-2.889878
X-APPLE-STRUCTURED-LOCATION;VALUE=URI;X-ADDRESS=2 places des huniers \, Arz
 on\, 56640\, Bretagne\, France;X-APPLE-RADIUS=100;X-TITLE=La maison du por
 t:geo:47.544868,-2.889878
END:VEVENT
BEGIN:VTIMEZONE
TZID:Europe/Paris
X-LIC-LOCATION:Europe/Paris
BEGIN:DAYLIGHT
DTSTART:20220327T030000
TZOFFSETFROM:+0100
TZOFFSETTO:+0200
TZNAME:CEST
END:DAYLIGHT
END:VTIMEZONE
END:VCALENDAR